BEGIN:VCALENDAR
VERSION:2.0
PRODID:-//Tukios.com/
BEGIN:VEVENT
UID:2fa7e552-deb8-48e2-a7c5-1dc0e4519269@www.simoncornwellfuneral.com
DTSTAMP:20260424T232615Z
DTSTART:20260427T230000Z
DTEND:20260428T020000Z
SUMMARY:Viewing
DESCRIPTION:
URL:https://www.simoncornwellfuneral.com/obituaries/theresa-arce
LOCATION: 390 N 2nd St  Woodburn OR 97071
GEO:45.1434174;-122.8576315
END:VEVENT
END:VCALENDAR