BEGIN:VCALENDAR
VERSION:2.0
PRODID:-//Tukios.com/
BEGIN:VEVENT
UID:129a4297-6f44-45f6-aef1-bad729504ed5@www.simoncornwellfuneral.com
DTSTAMP:20260424T235621Z
DTSTART:20260506T230000Z
DTEND:20260507T020000Z
SUMMARY:Viewing
DESCRIPTION:
URL:https://www.simoncornwellfuneral.com/obituaries/roberto-hernandez
LOCATION: 390 N 2nd St  Woodburn OR 97071
GEO:45.1434174;-122.8576315
END:VEVENT
END:VCALENDAR