BEGIN:VCALENDAR
VERSION:2.0
PRODID:-//Tukios.com/
BEGIN:VEVENT
UID:98ea7b40-c8ed-4948-a528-c1f1ef00bb1b@www.simoncornwellfuneral.com
DTSTAMP:20260424T024421Z
DTSTART:20260428
SUMMARY:Graveside Service
DESCRIPTION:
URL:https://www.simoncornwellfuneral.com/obituaries/elizabeth-loscutoff
LOCATION:Gervais Pioneer Masonic Cemetery 12828 Portland Rd NE  Gervais  
	97026
GEO:45.1006421;-122.8852272
END:VEVENT
END:VCALENDAR