BEGIN:VCALENDAR
VERSION:2.0
PRODID:-//Tukios.com/
BEGIN:VEVENT
UID:39f66fba-cd8a-4a00-8221-0c5ef196c896@www.simoncornwellfuneral.com
DTSTAMP:20260424T024422Z
DTSTART:20260428T180000Z
DTEND:20260428T190000Z
SUMMARY:Funeral Service
DESCRIPTION:
URL:https://www.simoncornwellfuneral.com/obituaries/elizabeth-loscutoff
LOCATION: 390 N 2nd St  Woodburn OR 97071
GEO:45.1434174;-122.8576315
END:VEVENT
END:VCALENDAR