BEGIN:VCALENDAR
VERSION:2.0
PRODID:-//Tukios.com/
BEGIN:VEVENT
UID:51563de8-4cc5-4bef-a79f-32120dc2cdba@www.simoncornwellfuneral.com
DTSTAMP:20260424T023941Z
DTSTART:20260428T170000Z
DTEND:20260428T180000Z
SUMMARY:Viewing
DESCRIPTION:
URL:https://www.simoncornwellfuneral.com/obituaries/elizabeth-loscutoff
LOCATION: 390 N 2nd St  Woodburn OR 97071
GEO:45.1434174;-122.8576315
END:VEVENT
END:VCALENDAR